BEGIN:VCALENDAR
VERSION:2.0
PRODID:-//University Of Lagos - ECPv6.15.20//NONSGML v1.0//EN
CALSCALE:GREGORIAN
METHOD:PUBLISH
X-ORIGINAL-URL:https://unilag.edu.ng
X-WR-CALDESC:Events for University Of Lagos
REFRESH-INTERVAL;VALUE=DURATION:PT1H
X-Robots-Tag:noindex
X-PUBLISHED-TTL:PT1H
BEGIN:VTIMEZONE
TZID:Africa/Lagos
BEGIN:STANDARD
TZOFFSETFROM:+0100
TZOFFSETTO:+0100
TZNAME:WAT
DTSTART:20240101T000000
END:STANDARD
END:VTIMEZONE
BEGIN:VEVENT
DTSTART;TZID=Africa/Lagos:20260204T160000
DTEND;TZID=Africa/Lagos:20260204T170000
DTSTAMP:20260420T201628
CREATED:20260129T125749Z
LAST-MODIFIED:20260129T125749Z
UID:68669-1770220800-1770224400@unilag.edu.ng
SUMMARY:Prof. Olusola Delivers Inaugural Lecture\, Feb. 4
DESCRIPTION:The Sixth (6th) Inaugural Lecture in the 2025/2026 Academic Session of the University of Lagos will be delivered on Wednesday\, February 4\, 2026 by Professor Olasunkanmi Isaac Olusola of the Department of Physics\, Faculty of Physical and Earth Science. \nThe Vice-Chancellor\, Professor Folasade T. Ogunsola\, OON\, FAS\, will preside over the lecture entitled: Unpredictability: Indispensable Phenomena in Modern Scientific Exploration\, scheduled for 4:00 p.m. at the J.F. Ade. Ajayi (Main) Auditorium\, UNILAG\, Akoka. \nMembers of the university community and general public are cordially invited.
URL:https://unilag.edu.ng/event/prof-olusola-delivers-inaugural-lecture-feb-4/
LOCATION:J.F. Ade. Ajayi Auditorium\, UNILAG\, Akoka\, Lagos\, 101017\, Nigeria
CATEGORIES:Inaugural Lecture
ATTACH;FMTTYPE=image/jpeg:https://unilag.edu.ng/wp-content/uploads/2026/01/Prof.-Olusolas-inaugural-lecture.jpeg
END:VEVENT
BEGIN:VEVENT
DTSTART;TZID=Africa/Lagos:20250820T153000
DTEND;TZID=Africa/Lagos:20250820T173000
DTSTAMP:20260420T201628
CREATED:20250813T060242Z
LAST-MODIFIED:20250813T101843Z
UID:60202-1755703800-1755711000@unilag.edu.ng
SUMMARY:Professor Osuntoki Delivers 20th Inaugural Lecture in 2024/2025 Academic Session\, August 20
DESCRIPTION:Professor Akinniyi Adediran Osuntoki of the Department of Medical Biochemistry\, Faculty of Basic Medical Sciences\, University of Lagos (UNILAG) will deliver the twentieth (20th) Inaugural Lecture of the 2024/2025 Academic Session on Wednesday\, August 20\, 2025\, at 4:00 p.m. at the Tayo Aderinokun Lecture Theatre\, University of Lagos (UNILAG)\, Akoka. \nThe Vice-Chancellor\, Professor Folasade T. Ogunsola\, OON\, FAS\, will preside over the Lecture entitled: DANCING ON SHIFTING CARPETS: BETWEEN MOLECULES AND DEVICES \nMembers of the University community and the public are cordially invited. Please be seated at the venue by 3:45 p.m. \nYou can also join virtually via:\nZoom Meeting ID: 848 7856 7004\nPasscode: 898564\nURL: https://bit.ly/OsuntokiA
URL:https://unilag.edu.ng/event/professor-osuntoki-delivers-20th-inaugural-lecture-in-2024-2025-academic-session-august-20/
LOCATION:Tayo Aderinokun Lecture Theatre\, UNILAG\, Unilag\, Akoka\, Lagos\, Nigeria
CATEGORIES:Inaugural Lecture
ATTACH;FMTTYPE=image/png:https://unilag.edu.ng/wp-content/uploads/2025/08/Professor-Osuntoki-Delivers-20th-Inaugural-Lecture-in-2024-2025-Academic-Session-August-20.png
ORGANIZER;CN="University of Lagos":MAILTO:communicationunit@unilag.edu.ng
END:VEVENT
BEGIN:VEVENT
DTSTART;TZID=Africa/Lagos:20250806T153000
DTEND;TZID=Africa/Lagos:20250806T173000
DTSTAMP:20260420T201628
CREATED:20250728T154101Z
LAST-MODIFIED:20250729T202543Z
UID:59047-1754494200-1754501400@unilag.edu.ng
SUMMARY:Professor Usman Delivers 19th Inaugural Lecture in 2024/2025 Academic Session\, August 6
DESCRIPTION:Professor Mohammed Awwalu Usman of the Department of Chemical Engineering\, Faculty of Engineering\, University of Lagos (UNILAG) will deliver the nineteenth (19th) Inaugural Lecture of the 2024/2025 Academic Session on Wednesday\, August 6\, 2025\, at 4:00 p.m. at the Nurudeen Alao Auditorium\, Distance Learning Institute (DLI)\, University of Lagos (UNILAG)\, Akoka.  \nThe Vice-Chancellor\, Professor Folasade T. Ogunsola\, OON\, FAS\, will preside over the Lecture entitled: IS CARBON TRULY AS GUILTY AS CHARGED? THE PERSPECTIVE OF A PROCESS SYSTEMS ENGINEER ON SUSTAINABILITY  \nMembers of the University community and the public are cordially invited. Please be seated at the venue by 3:45 p.m.  \nYou can also join virtually via: \nZoom Meeting ID: 898 8587 6375\nPasscode: 669840\nURL: https://bit.ly/UsmanM
URL:https://unilag.edu.ng/event/professor-usman-delivers-19th-inaugural-lecture-in-2024-2025-academic-session-august-6-2025/
LOCATION:Nurudeen Alao Auditorium\, DLI UILAG\, University of Lagos (UNILAG)\, Akoka\, Yaba\, Lagos State\, Nigeria
CATEGORIES:Inaugural Lecture
ATTACH;FMTTYPE=image/png:https://unilag.edu.ng/wp-content/uploads/2025/07/Professor-Usman-Delivers-19th-Inaugural-Lecture-in-20242025-Academic-Session-August-6-2025.png
END:VEVENT
BEGIN:VEVENT
DTSTART;TZID=Africa/Lagos:20250526T080000
DTEND;TZID=Africa/Lagos:20250526T170000
DTSTAMP:20260420T201628
CREATED:20250526T181132Z
LAST-MODIFIED:20250604T090750Z
UID:55669-1748246400-1748278800@unilag.edu.ng
SUMMARY:Prof. Oyewunmi Delivers Inaugural Lecture\, June 4
DESCRIPTION:Professor Adejoke Oyewunmi of the Department of Commercial and Industrial Law\, Faculty of Law\, University of Lagos (UNILAG) will deliver the (14th) Inaugural Lecture of the 2024/2025 Academic Session on Wednesday\, June 4 2025 at 4:00 p.m. (guests are to be seated by 3:45 p.m.) at the Tayo Aderinokun Lecture Theatre (near the UNILAG Guest Houses)\, UNILAG\, Akoka . \nThe Vice-Chancellor\, Professor Folasade T. Ogunsola\, OON\, FAS\, will preside over the Lecture titled: Intellectual Property and Digital Technology: Navigating a Pathway to Fit for Purpose Legal Regime in Nigeria. \nMembers of the University Community and general public are cordially invited.
URL:https://unilag.edu.ng/event/prof-oyewunmi-delivers-inaugural-lecture-june-4/
LOCATION:Lagos
CATEGORIES:Inaugural Lecture,UNILAG General Events
END:VEVENT
BEGIN:VEVENT
DTSTART;TZID=Africa/Lagos:20250319T160000
DTEND;TZID=Africa/Lagos:20250319T180000
DTSTAMP:20260420T201628
CREATED:20250318T170059Z
LAST-MODIFIED:20250318T170339Z
UID:50141-1742400000-1742407200@unilag.edu.ng
SUMMARY:Professor Anyim Delivers 9th Inaugural Lecture in 2024/2025 Academic Session\, March 19
DESCRIPTION:Professor Francis Chukwudike Anyim of the Department of Employment Relations & Human Resource Management\, Faculty of Management Sciences\, University of Lagos (UNILAG) will deliver the ninth (9th) Inaugural Lecture of the 2024/2025 Academic Session on Wednesday\, March 19\, 2025 at 4:00 p.m. at the J.F. Ade. Ajayi Auditorium\, University of Lagos (UNILAG)\, Akoka. \n\n\n\nThe Vice-Chancellor\, Professor Folasade T. Ogunsola\, OON\, FAS\, will preside over the Lecture entitled: CONCEPTUALISATION OF MANAGING PEOPLE IN THE WOKPLACE FROM THE BEGINNING TO THE PRESENT: IS IT REALLY RELABELLING? \n\n\n\nMembers of the University community and the general public are cordially invited. Please be seated at the venue by 3:45 p.m. \n\n\n\nYou can also join virtually via: Zoom Meeting ID: 821 9015 9923 Passcode: 112683 URL: https://bit.ly/AnyimF \n\n\n\n 
URL:https://unilag.edu.ng/event/professor-anyim-delivers-9th-inaugural-lecture-in-2024-2025-academic-session-march-19/
LOCATION:Lagos
CATEGORIES:Faculty of Management Sciences,Inaugural Lecture
ATTACH;FMTTYPE=image/png:https://unilag.edu.ng/wp-content/uploads/2025/03/Professor-Anyim-Delivers-9th-Inaugural-Lecture-in-2024-2025-Academic-Session-March-19.png
END:VEVENT
BEGIN:VEVENT
DTSTART;TZID=Africa/Lagos:20250305T153000
DTEND;TZID=Africa/Lagos:20250305T173000
DTSTAMP:20260420T201628
CREATED:20250228T124813Z
LAST-MODIFIED:20250228T142543Z
UID:49366-1741188600-1741195800@unilag.edu.ng
SUMMARY:Professor Nwanna Delivers 8th Inaugural Lecture in 2024/2025 Academic Session\, March 5
DESCRIPTION:Professor Chinwe Rosabelle Nwanna of the Department of Social Work\, Faculty of Social Sciences\, University of Lagos (UNILAG) will deliver the eight (8th) Inaugural Lecture of the 2024/2025 Academic Session on Wednesday\, March 5\, 2025 at 4:00 p.m. at the J.F. Ade. Ajayi Auditorium\, University of Lagos (UNILAG)\, Akoka. \n\n\n\nThe Vice-Chancellor\, Professor Folasade T. Ogunsola\, OON\, FAS\, will preside over the Lecture entitled: CAUGHT IN THE WEB: REBUILDING THE CRADLE. \n\n\n\nMembers of the University community and the general public are cordially invited. Please be seated at the venue by 3:45 p.m. \n\n\n\nYou can also join virtually via: Zoom Meeting ID: 865 9633 7376 Passcode: 068562 URL: https://bit.ly/NwannaC
URL:https://unilag.edu.ng/event/professor-nwanna-delivers-8th-inaugural-lecture-in-2024-2025-academic-session-march-5/
LOCATION:Lagos
CATEGORIES:Inaugural Lecture
ATTACH;FMTTYPE=image/png:https://unilag.edu.ng/wp-content/uploads/2025/02/Professor-Nwanna-Delivers-8th-Inaugural-Lecture-in-2024-2025-Academic-Session-March-5.png
END:VEVENT
END:VCALENDAR