BEGIN:VCALENDAR
VERSION:2.0
PRODID:-//University Of Lagos - ECPv6.15.20//NONSGML v1.0//EN
CALSCALE:GREGORIAN
METHOD:PUBLISH
X-WR-CALNAME:University Of Lagos
X-ORIGINAL-URL:https://unilag.edu.ng
X-WR-CALDESC:Events for University Of Lagos
REFRESH-INTERVAL;VALUE=DURATION:PT1H
X-Robots-Tag:noindex
X-PUBLISHED-TTL:PT1H
BEGIN:VTIMEZONE
TZID:Africa/Lagos
BEGIN:STANDARD
TZOFFSETFROM:+0100
TZOFFSETTO:+0100
TZNAME:WAT
DTSTART:20240101T000000
END:STANDARD
END:VTIMEZONE
BEGIN:VEVENT
DTSTART;TZID=Africa/Lagos:20250804T080000
DTEND;TZID=Africa/Lagos:20250804T170000
DTSTAMP:20260421T233258
CREATED:20250804T161822Z
LAST-MODIFIED:20250804T162533Z
UID:59673-1754294400-1754326800@unilag.edu.ng
SUMMARY:INTERNATIONAL SCHOOL\, UNIVERSITY OF LAGOS (ISL): Transfer Admission Exercise into Basic 8 (JS2) and SS1 For 2025/2026 Session
DESCRIPTION:The International School\, University of Lagos (ISL) has commenced the sale of application forms for admission into Basic 8 (JS 2) and SS 1. These forms are available for sale to interested applicants seeking transfer admission into the school. \nInterested applicants are to note the following:   \n\nVacancies exist only in Basic 8 (JS2) and SS1.\nApplication forms are available for sale from Monday\, July 28\, to Tuesday\, September 2\, 2025.\nBasic Entry Requirements:\nAge: Candidates seeking admission into Basic 8(JS2) must be 11years old by Friday\, October 31\, 2025\, while those seeking admission into SS1 must be 13 years old by Friday\, October 31\, 2025. Candidates are expected to bring original and photocopy of their birth certificate.\nBasic 8(JS2): Overall average of 50% including English Language and Mathematics in the annual assessment for JS1 (original copy for sighting and photocopy is required for submission).\n\n\nSS1: Minimum of 50%in overall performance\, including 50% in English Language and Mathematics in annual results for Basic 7 (JS1) and Basic 8 (JS2). Second term Basic 9 (JS3) and BECE results are also required before the admission process is completed (original copies are for sighting\, while photocopies will be submitted).\n\n\nRecommendation form (to be obtained from the office of the Administrative Officer\, Records\, ISL) must be endorsed by the Principal of the former school\, which must also be submitted to the office of the Vice-Principal (Administration)\, before admission letter can be issued.\nApplicants are to present the requirements in 3i–iii at the office of the Vice-Principal (Academics) or the Administrative Officer (Records)\, for screening.\nSuccessfully screened applicants will be issued a clearance slip with which they can pay for the application form. Payment for the application form should not be made until candidates have been screened by the office of the Vice-Principal (Academics) or the Administrative Officer. Please note that payment for the application form is non-refundable and non-transferable.\nProcedure For Payment: Pay the sum of Twenty Five Thousand Naira only ₦25\,000:00 only (non-refundable fee) into any of the school’s bank accounts below:\n\n\n\n\nBANK\nACCOUNT NAME\n ACCOUNT NUMBER\n\n\nECO BANK PLC\nISL FUND\n1960069219\n\n\nUNILAG MICROFINANCE BANK LTD.\nISL FUND\n100087135\n\n\n\n  \n\nCollection of Application Form: Take evidence of payment for application form to the Office of the Vice-Principal (Academics) or the office of the Administrative Officer (Records) to collect the application form.\nSubmission of Application Form: Candidates are to submit the application form on or before Wednesday\, September 3\, 2025.\nDate of Examination: Wednesday\, September 3\, 2025.\n\nTIME: 9.00a.m – 11.00a.m. (for JS2) and 9.00a.m –1.00p.m. (for SS1). \nVENUE: International School\, University of Lagos. \n\nMode of ExaminationCandidates will be tested in English Language and Mathematics (paper-based). Candidates applying to SS1 will also write an Aptitude Test for class placement.\nRelease of Result: Friday\, September 5\, 2025.\nIssuance of Admission Letter and Payment of All Fees: Friday\, September 5 to Tuesday\, September 9\, 2025.\nOrientation for New(Transfer) Students: Wednesday\, September 10 to Thursday\,  September 12\, 2025.\n\n  \nSigned: \nISL MANAGEMENT 
URL:https://unilag.edu.ng/event/international-school-university-of-lagos-isl-transfer-admission-exercise-into-basic-8-js2-and-ss1-for-2025-2026-session/
CATEGORIES:UNILAG General Events
ATTACH;FMTTYPE=image/png:https://unilag.edu.ng/wp-content/uploads/2025/01/Important-Notice-UNILAG-Nigeria-2025-light.png
END:VEVENT
BEGIN:VEVENT
DTSTART;TZID=Africa/Lagos:20250806T110000
DTEND;TZID=Africa/Lagos:20250806T110000
DTSTAMP:20260421T233258
CREATED:20250802T105917Z
LAST-MODIFIED:20250804T110308Z
UID:59623-1754478000-1754478000@unilag.edu.ng
SUMMARY:UNILAG Hosts Annual French Club Day\, August 6
DESCRIPTION:The Department of European Languages and Integration Studies\, University of Lagos (UNILAG)\, will host its annual French Club Day (La Journée du Cercle Français) on Wednesday\, August 6\, 2025\, at 11:00 a.m\, at the Afe Babalola Hall\, UNILAG. \nThe event is designed to celebrate and promote the French language and Francophone culture through a variety of engaging activities such as cultural performances\, and academic presentations. \nMembers of the university community and general public are cordially invited
URL:https://unilag.edu.ng/event/unilag-hosts-annual-french-club-day-august-6/
CATEGORIES:Discussions,Faculty of Arts,UNILAG General Events
ATTACH;FMTTYPE=image/png:https://unilag.edu.ng/wp-content/uploads/2025/02/Upcoming-Events-UNILAG-Nigeria-2025-maroon.png
END:VEVENT
BEGIN:VEVENT
DTSTART;TZID=Africa/Lagos:20250808T080000
DTEND;TZID=Africa/Lagos:20250808T130000
DTSTAMP:20260421T233258
CREATED:20250729T152300Z
LAST-MODIFIED:20250729T192051Z
UID:59132-1754640000-1754658000@unilag.edu.ng
SUMMARY:UNILAG Hosts Project Management Training for Students & Lecturers\, Aug 8
DESCRIPTION:The Faculty of Engineering\, University of Lagos (UNILAG)\, in partnership with Casting Crown Limited\, is set to host a Project Management Training Programme on Friday\, August 8\, 2025\, at 8:00 a.m. at the Faculty of Engineering Lecture Theatre\, UNILAG. \nThe training marks the first phase of a long-term capacity-building initiative for five hundred (500) undergraduate students and fifty (50) lecturers over a five-year period. The initiative aims to equip members of the university community with practical skills in project design\, implementation\, and evaluation. \nThis first edition will benefit a cohort of fifty (50) students and ten (10) lecturers\, who will gain essential tools to drive excellence in project execution across academic and professional settings.
URL:https://unilag.edu.ng/event/unilag-hosts-project-management-training-for-students-lecturers-aug-8/
CATEGORIES:UNILAG General Events
ATTACH;FMTTYPE=image/png:https://unilag.edu.ng/wp-content/uploads/2025/02/Upcoming-Events-UNILAG-Nigeria-2025-light.png
END:VEVENT
BEGIN:VEVENT
DTSTART;TZID=Africa/Lagos:20250811T000000
DTEND;TZID=Africa/Lagos:20250811T150000
DTSTAMP:20260421T233258
CREATED:20250804T155954Z
LAST-MODIFIED:20250804T160820Z
UID:59665-1754870400-1754924400@unilag.edu.ng
SUMMARY:UNILAG Theatre Arts Students Bring House of Aguba to Life\, Aug 11
DESCRIPTION:A special presentation of House of Aguba by 400-level Theatre Arts students (Group 2) of the University of Lagos (UNILAG) will hold on Monday\, August 11\, 2025\, at 4:00 p.m. (red carpet will begin at 3:00 p.m.) at the Theatre Hall\, Faculty of Creative Arts\, UNILAG . \nThe performance is one of several special practical projects designed to assess the academic and creative development of final-year Theatre Arts students of the University. \nMembers of the University Community and the general public are invited to attend and support this showcase of talent and dedication by UNILAG Theatre Arts students.
URL:https://unilag.edu.ng/event/unilag-theatre-arts-students-bring-house-of-aguba-to-life-aug-11/
CATEGORIES:UNILAG General Events
ATTACH;FMTTYPE=image/png:https://unilag.edu.ng/wp-content/uploads/2025/02/Upcoming-Events-UNILAG-Nigeria-2025-maroon-1.png
END:VEVENT
BEGIN:VEVENT
DTSTART;TZID=Africa/Lagos:20250811T080000
DTEND;TZID=Africa/Lagos:20250811T160000
DTSTAMP:20260421T233258
CREATED:20250804T154819Z
LAST-MODIFIED:20250804T163607Z
UID:59655-1754899200-1754928000@unilag.edu.ng
SUMMARY:2-Day Training Programme For Security Personnel Begins\, Aug 11
DESCRIPTION:The Staff Training and Development Unit (ST&DU) of the University of Lagos (UNILAG) will hold a two-day training programme for UNILAG security personnel from Monday\, August 11\, to Tuesday\, August 12\, 2025\, at the Faculty of Science Boardroom\, UNILAG\, Akoka . \nWith the theme: Enhancing Security Excellence: Protecting Life\, Property and Community \, the capacity-building programme is designed to sharpen the skills and broaden the knowledge of security personnel to strengthen campus safety and improve overall service delivery within the University community. \nSelected security personnel are to check their emails and complete the registration process to confirm attendance.
URL:https://unilag.edu.ng/event/2-day-training-programme-for-security-personnel-begins-aug-11/
CATEGORIES:UNILAG General Events
ATTACH;FMTTYPE=image/jpeg:https://unilag.edu.ng/wp-content/uploads/2025/08/Security-Flyer-1.jpeg
END:VEVENT
BEGIN:VEVENT
DTSTART;TZID=Africa/Lagos:20250813T080000
DTEND;TZID=Africa/Lagos:20250814T170000
DTSTAMP:20260421T233258
CREATED:20250726T143914Z
LAST-MODIFIED:20250728T151309Z
UID:59057-1755072000-1755190800@unilag.edu.ng
SUMMARY:8th International Academic Conference on Taxation: Call for Participation
DESCRIPTION:The 8th International Academic Conference on Taxation\, organised by the Chartered Institute of Taxation of Nigeria (CITN)\, will hold from Wednesday\, August 13\, to Thursday\, August 14\, 2025\, at Lagos State University\, Ojo. \nThemed: Taxation in a Digitalized and Globalized Economy: Challenges\, Opportunities\, and Sustainable Solutions\, the conference will feature keynote addresses by distinguished experts\, scholarly paper presentations\, panel discussions\, a PhD colloquium\, and capacity-building workshops for students and early-career researchers. \nInterested members of staff\, especially those engaged in Research and Development\, the Legal Department\, or Strategy and Policy Implementation\, are encouraged to submit abstracts and full papers for presentation. \nSubmissions should be relevant to the conference theme and its associated sub-themes. Please note that: The deadline for submission of Abstracts is Wednesday\, July 30\, 2025\, while the deadline for Full Papers is Friday\, August 8\, 2025. \nConference Fee is ₦40\,000  \nParticipants will receive a certificate of attendance. In addition\, members of the Chartered Institute of Taxation of Nigeria (CITN) will earn 12 credit hours\, with an additional 2 credit units per paper presented (maximum of 2 papers). For abstract/paper submission guidelines and further details\, please contact: Conference Secretary\, Mr. Segun Ajibowo via 08069681497 and acadconf@citn.org;  Mr. Lanre Oni via 07062773011 and olanrewaju.oni@citn.org.
URL:https://unilag.edu.ng/event/8th-international-academic-conference-on-taxation-call-for-participation/
CATEGORIES:UNILAG General Events
ATTACH;FMTTYPE=image/png:https://unilag.edu.ng/wp-content/uploads/2025/06/Call-for-Maroon-2025-UNILAG-Web-Constants.png
END:VEVENT
BEGIN:VEVENT
DTSTART;TZID=Africa/Lagos:20250828T120000
DTEND;TZID=Africa/Lagos:20250828T170000
DTSTAMP:20260421T233258
CREATED:20250826T191935Z
LAST-MODIFIED:20250827T063327Z
UID:61209-1756382400-1756400400@unilag.edu.ng
SUMMARY:NITHUB Incubation Demo Day Holds\, August 28
DESCRIPTION:The National Information Technology Development Agency (NITDA) IT Hub\, (NITHub)\, University of Lagos (UNILAG) is set to host the 2025 NITHub Incubation Demo Day as scheduled below: \nDate: Thursday\, August 28\, 2025\nTime: 12:00 p.m.\nVenue: NITHUB\, University of Lagos \nThe Demo Day\, which marks the conclusion of the current incubation cycle in the Hub\, will feature a session where early-stage founders would showcase the innovative solutions they developed during the programme. \nThe NITHub Incubation Demo Day is aimed at highlighting the University’s commitment to tech innovation and entrepreneurship\, as well as its drive to foster the birthing of impactful startups within the University of Lagos community.
URL:https://unilag.edu.ng/event/nithub-incubation-demo-day-holds-august-28/
CATEGORIES:NITHub,UNILAG General Events
ATTACH;FMTTYPE=image/png:https://unilag.edu.ng/wp-content/uploads/2025/02/Upcoming-Events-UNILAG-Nigeria-2025-light-1.png
END:VEVENT
END:VCALENDAR