BEGIN:VCALENDAR
VERSION:2.0
PRODID:-//University Of Lagos - ECPv6.15.20//NONSGML v1.0//EN
CALSCALE:GREGORIAN
METHOD:PUBLISH
X-WR-CALNAME:University Of Lagos
X-ORIGINAL-URL:https://unilag.edu.ng
X-WR-CALDESC:Events for University Of Lagos
REFRESH-INTERVAL;VALUE=DURATION:PT1H
X-Robots-Tag:noindex
X-PUBLISHED-TTL:PT1H
BEGIN:VTIMEZONE
TZID:Africa/Lagos
BEGIN:STANDARD
TZOFFSETFROM:+0100
TZOFFSETTO:+0100
TZNAME:WAT
DTSTART:20240101T000000
END:STANDARD
END:VTIMEZONE
BEGIN:VEVENT
DTSTART;VALUE=DATE:20251013
DTEND;VALUE=DATE:20251018
DTSTAMP:20260421T234139
CREATED:20250814T150820Z
LAST-MODIFIED:20250814T150948Z
UID:60430-1760313600-1760745599@unilag.edu.ng
SUMMARY:2025 UNILAG International Week Holds\, Oct. 13 – 17
DESCRIPTION:The 2025 University of Lagos (UNILAG) International Week will hold from Monday\, October 13 to Friday\, October 17\, 2025\, with the theme: Equitable Partnerships and the Future of AI in Africa. \nThe annual UNILAG International Week is a flagship platform for dialogue\, networking and strategic engagement with academic institutions\, industry partners\, policymakers and wider public. With a line up of activities such as keynote lectures\, panel discussions\, exhibitions\, cultural showcases and interactive workshops\, the theme for this year’s edition is a reflection of the University’s commitment to fostering balanced global collaborations while exploring the transformative potential of artificial intelligence in shaping Africa’s future. \nMembers of university community and general public are invited to save the date and plan to participate in the 2025 UNILAG International Week. For further details and enquiries\, please contact the Office of International Relations\, Partnerships & Prospects\, UNILAG (IRPP\, UNILAG) via inter_rel@unilag.edu.ng
URL:https://unilag.edu.ng/event/2025-unilag-international-week-holds-oct-13-17/
CATEGORIES:Summit,UNILAG General Events
ATTACH;FMTTYPE=image/png:https://unilag.edu.ng/wp-content/uploads/2025/02/Upcoming-Events-UNILAG-Nigeria-2025-light-1.png
END:VEVENT
BEGIN:VEVENT
DTSTART;TZID=Africa/Lagos:20251015T160000
DTEND;TZID=Africa/Lagos:20251015T170000
DTSTAMP:20260421T234139
CREATED:20251010T175401Z
LAST-MODIFIED:20251013T084812Z
UID:63236-1760544000-1760547600@unilag.edu.ng
SUMMARY:Prof. Niemogha Delivers 25th Inaugural Lecture\, Oct. 15
DESCRIPTION:Professor Mary-Theresa Akpoveta-Niemogha of the Department of Medical Laboratory Science\, Faculty of Basic Medical Sciences\, College of Medicine\, University of Lagos (UNILAG) will deliver the twenty-fifth (25th) Inaugural Lecture of the 2024/2025 Academic Session on Wednesday\, October 15\, 2025\, at 4:00 p.m. (Guests are to be seated by 3:45 p.m.) at the J. F. Ade Ajayi Auditorium\, UNILAG\, Akoka. \nThe Vice-Chancellor\, Professor Folasade T. Ogunsola\, OON\, FAS\, will preside over the Lecture titled: Microbes Everywhere: How Safe? Resolution in the “Dynamism” of Bacteria in the Microscopic World and in Health Biotechnology. \nMembers of the University community and general public are cordially invited to join physically or virtually via \nZoom URL: https://bit.ly/NEIMOGHA \nMeeting ID: 898 2013 7659\nPasscode: 387234
URL:https://unilag.edu.ng/event/prof-niemogha-delivers-25th-inaugural-lecture-oct-15/
CATEGORIES:UNILAG General Events
ATTACH;FMTTYPE=image/jpeg:https://unilag.edu.ng/wp-content/uploads/2025/10/IMG-20251011-WA0010.jpg
END:VEVENT
END:VCALENDAR