BEGIN:VCALENDAR
VERSION:2.0
PRODID:-//University Of Lagos - ECPv6.15.20//NONSGML v1.0//EN
CALSCALE:GREGORIAN
METHOD:PUBLISH
X-ORIGINAL-URL:https://unilag.edu.ng
X-WR-CALDESC:Events for University Of Lagos
REFRESH-INTERVAL;VALUE=DURATION:PT1H
X-Robots-Tag:noindex
X-PUBLISHED-TTL:PT1H
BEGIN:VTIMEZONE
TZID:Africa/Lagos
BEGIN:STANDARD
TZOFFSETFROM:+0100
TZOFFSETTO:+0100
TZNAME:WAT
DTSTART:20250101T000000
END:STANDARD
END:VTIMEZONE
BEGIN:VEVENT
DTSTART;TZID=Africa/Lagos:20260108T083000
DTEND;TZID=Africa/Lagos:20260108T113000
DTSTAMP:20260422T232616
CREATED:20260105T142953Z
LAST-MODIFIED:20260105T165507Z
UID:67479-1767861000-1767871800@unilag.edu.ng
SUMMARY:Zoology Dept. Hosts Lying-in- State Programme for Lat Prof. Ose Odiete
DESCRIPTION:The Department of Zoology\, University of Lagos (UNILAG) will host a Lying-In-State Programme for retired Professor William Ose Odiete\, as part of his funeral ceremony following his demise on Saturday\, October 4\, 2025\, at the age of 86. \nThe event will hold as follows:\nDate: Thursday\, January 8\, 2026 Time: 8:30 am\nVenue: Faculty of Science Foyer\, UNILAG Main Campus\, Akoka\, Lagos. \nFollowing the lying in state is a Commendation /Requiem Mass at St. Thomas Moore Catholic Church\, UNILAG Akoka Campus at *12 noon prompt*. \nBorn on July 6\, 1939\, Professor William Ose Odiete joined the services of the University of Lagos as Lecturer II in 1969. He had a successful career in the Department of Zoology\, UNILAG until his retirement in July\, 2005. \nOn behalf of the entire University community\, the Vice-Chancellor\, Professor Folasade T. Ogunsola\, OON\, FAS\, commiserates with the family of the late Iroro of Okpe Kingdom and prays for the repose of his soul.
URL:https://unilag.edu.ng/event/zoology-dept-hosts-lying-in-state-programme-for-lat-prof-ose-odiate/
CATEGORIES:Faculty of Science,UNILAG General Events
ATTACH;FMTTYPE=image/jpeg:https://unilag.edu.ng/wp-content/uploads/2026/01/IMG-20260105-WA0011.jpg
END:VEVENT
BEGIN:VEVENT
DTSTART;TZID=Africa/Lagos:20260108T100000
DTEND;TZID=Africa/Lagos:20260108T170000
DTSTAMP:20260422T232616
CREATED:20260106T115901Z
LAST-MODIFIED:20260106T122117Z
UID:67493-1767866400-1767891600@unilag.edu.ng
SUMMARY:Faculty of Physical and Earth Sciences Holds Staff Retreat\, Jan. 8
DESCRIPTION:The Staff Retreat of the Faculty of Physical and Earth Sciences\, University of Lagos (UNILAG) will hold on Thursday\, January 8\, 2026 at 10:00 a.m. at the Faculty Board Room\, UNILAG\, Akoka. \nWith the theme: Fostering Interdisciplinary Collaboration between Academia and Industry\, the retreat aims to promote: \n\nEnhanced focus and mental clarity;\nStronger interdisciplinary connections;\nA renewed sense of community and purpose;\nCapacity Building and Team Development; and\nAdministrative Strategies and Leadership Pathways
URL:https://unilag.edu.ng/event/faculty-of-physical-and-earth-sciences-holds-staff-retreat-jan-8/
CATEGORIES:UNILAG General Events
ATTACH;FMTTYPE=image/png:https://unilag.edu.ng/wp-content/uploads/2025/02/Upcoming-Events-UNILAG-Nigeria-2025-maroon-1.png
END:VEVENT
BEGIN:VEVENT
DTSTART;TZID=Africa/Lagos:20260112T080000
DTEND;TZID=Africa/Lagos:20260112T170000
DTSTAMP:20260422T232616
CREATED:20260112T173909Z
LAST-MODIFIED:20260112T174113Z
UID:67709-1768204800-1768237200@unilag.edu.ng
SUMMARY:56th Convocation Ceremonies: Convocation Press Conference Holds\, Jan. 14
DESCRIPTION:The Convocation Press Conference for the 56th Convocation Ceremonies of the University of Lagos (UNILAG) will hold as follows: \n\n\n\nDate: Wednesday\, January 14\, 2026Time: 10:00 a.m. (Guests are to be seated by 9:45 a.m.) Venue: Senate Chamber\, 2nd Floor\, Senate House\, UNILAG\, Akoka.  \nThe Vice-Chancellor of the University of Lagos\, Professor Folasade Tolulope Ogunsola\, OON\, FAS\, will address members of the fourth estate of the realm. \nJoin us Live on YouTube via https://youtube.com/live/G2_IbsWMptI or Zoom meetings via https://us02web.zoom.us/j/82568194195 Meeting ID: 825 6819 4195 Passcode: UNILAGCONV
URL:https://unilag.edu.ng/event/56th-convocation-ceremonies-convocation-press-conference-holds-jan-14/
CATEGORIES:UNILAG General Events
ATTACH;FMTTYPE=image/png:https://unilag.edu.ng/wp-content/uploads/2026/01/2_20260112_173410_0000.png
END:VEVENT
BEGIN:VEVENT
DTSTART;TZID=Africa/Lagos:20260119T150000
DTEND;TZID=Africa/Lagos:20260119T170000
DTSTAMP:20260422T232616
CREATED:20260105T132630Z
LAST-MODIFIED:20260105T133331Z
UID:67476-1768834800-1768842000@unilag.edu.ng
SUMMARY:UNILAG 56th Convocation Ceremonies: Faculty of Education Holds Hooding Ceremony\, Jan. 19
DESCRIPTION:As part of activities lined up for the 56th Convocation Ceremonies of the University of Lagos (UNILAG)\, the Faculty of Education will hold its Hooding Ceremony on Monday\, January 19\, 2025. Other details are as scheduled below:👇🏿 \nTime: 3.00 pm\nVenue: Multipurpose Hall (Wing A)\, now Jelilil Adebisi Omotola Hall\, University of Lagos \nMembers of the University community are cordially invited.
URL:https://unilag.edu.ng/event/unilag-56th-convocation-ceremonies-faculty-of-education-holds-hooding-ceremony-jan-19/
CATEGORIES:Faculty of Education,UNILAG General Events
ATTACH;FMTTYPE=image/png:https://unilag.edu.ng/wp-content/uploads/2025/02/Upcoming-Events-UNILAG-Nigeria-2025-light.png
END:VEVENT
BEGIN:VEVENT
DTSTART;TZID=Africa/Lagos:20260219T080000
DTEND;TZID=Africa/Lagos:20260219T170000
DTSTAMP:20260422T232616
CREATED:20260219T180627Z
LAST-MODIFIED:20260219T180627Z
UID:69652-1771488000-1771520400@unilag.edu.ng
SUMMARY:Public Law Dept. Marks Int’l Women’s Day With Gender Roundtable\, Feb. 27
DESCRIPTION:The Department of Public Law\, Faculty of Law\, University of Lagos (UNILAG) will mark the 2026 International Women’s Day with its Gender Roundtable on Friday\, February 27\, 2026 from 11:00 a.m. to 2:00 p.m. at the Ayo Ajomo Hall\, Nigerian Institute of Advanced Legal Studies (NIALS)\, UNILAG\, Akoka. \nWith the theme: Give to Gain\, the Roundtable will feature a keynote presentation by the Chairman of ECOBANK Nigeria\, Mrs Bola Adesola and the following Panelists: Mrs Folashade Alli\, SAN (Head\, Folashade Alli and Associates) and Dr. Princess Olufemi Kayode (Executive Director\, WARDC) \nMembers of the University Community are invited to join the event physically or virtually via Zoom Meeting ID: 820 2315 7835 and Password: 531237
URL:https://unilag.edu.ng/event/public-law-dept-marks-intl-womens-day-with-gender-roundtable-feb-27/
CATEGORIES:UNILAG General Events
ATTACH;FMTTYPE=image/jpeg:https://unilag.edu.ng/wp-content/uploads/2026/02/Screenshot_20260219-180625_1.jpg
END:VEVENT
BEGIN:VEVENT
DTSTART;TZID=Africa/Lagos:20260219T100000
DTEND;TZID=Africa/Lagos:20260219T170000
DTSTAMP:20260422T232616
CREATED:20260213T140718Z
LAST-MODIFIED:20260214T085034Z
UID:69525-1771495200-1771520400@unilag.edu.ng
SUMMARY:Pastor Enoch Adejare Adeboye Professorial Chair in Mathematics Public Lecture\, February 19
DESCRIPTION:The Office of Advancement in collaboration with the Department of Mathematics\, Faculty of Earth & Physical Sciences will hold the Public Lecture of Pastor Enoch Adejare Professorial Chair in Mathematics scheduled for: \nDate:               Thursday\, February 19\, 2026 \nTime:              10:00a.m. \nVenue:            Tayo Aderinokun Hall\, University of Lagos \nThe lecture titled\, Algebraic Structures and their Applications to Cryptography and Complex Systems will be delivered by Professor Jaiyeola Temitope Gbolahan\, Professor of Mathematics at the Obafemi Awolowo University and 3rd Occupier of the Pastor Enoch A. Adeboye Professorial Chair of Mathematics at the Faculty of Science. \nMembers of the university community is cordially invited.
URL:https://unilag.edu.ng/event/pastor-enoch-adejare-professorial-chair-in-mathematics-public-lecture-february-19/
CATEGORIES:UNILAG General Events
ATTACH;FMTTYPE=image/jpeg:https://unilag.edu.ng/wp-content/uploads/2026/02/UNILAG-3RD-LECTURE-FACULTY-OF-MATHS-new.jpg-1-scaled.jpeg
END:VEVENT
BEGIN:VEVENT
DTSTART;TZID=Africa/Lagos:20260223T080000
DTEND;TZID=Africa/Lagos:20260223T170000
DTSTAMP:20260422T232616
CREATED:20260223T091955Z
LAST-MODIFIED:20260223T091955Z
UID:69833-1771833600-1771866000@unilag.edu.ng
SUMMARY:Faculty of Communication and Media Studies Holds Staff Retreat\, March 3 
DESCRIPTION:The Staff Retreat of the Faculty of Communication and Media Studies\, University of Lagos (UNILAG) will hold on Tuesday\, March 3\, 2026 from 8:00 a.m. to 4:00 p.m. at the Biodun Shobanjo Multimedia Centre of Excellence\, UNILAG. \nWith the theme: Roadmap for Attaining and Sustaining Academic Excellence in a New Faculty\, the retreat aims to: \n\nstrengthen the Faculty’s academic foundation\, and\nadvance excellence in teaching\, research\, and professional practice.
URL:https://unilag.edu.ng/event/faculty-of-communication-and-media-studies-holds-staff-retreat-march-3/
CATEGORIES:UNILAG General Events
ATTACH;FMTTYPE=image/png:https://unilag.edu.ng/wp-content/uploads/2026/01/Upcoming-Events-2026-UNILAG-Web-Gold.png
END:VEVENT
BEGIN:VEVENT
DTSTART;TZID=Africa/Lagos:20260224T143000
DTEND;TZID=Africa/Lagos:20260224T170000
DTSTAMP:20260422T232616
CREATED:20260220T163023Z
LAST-MODIFIED:20260220T181502Z
UID:69708-1771943400-1771952400@unilag.edu.ng
SUMMARY:Event on the Future of Artificial Intelligence: Opportunities and Challenges Holds\, Feb. 24
DESCRIPTION:The University of Lagos (UNILAG) is set to host an event on The Future of Artificial Intelligence: Opportunities and Challenges\, as follows: \nDate: Tuesday\, February 24\, 2026 \nTime: 12:30p.m. \nVenue: J.F. Ade. Ajayi (Main) Auditorium\, UNILAG\, Akoka. \nOrganised by the US Mission in Nigeria\, the programme which will feature a presentation by the Chief Executive Officer (CEO) of FIMIO\, Omoju Miller promises to provide valuable insights into the evolving landscape of Artificial Intelligence. \nThe event is open to students\, faculty members\, and alumni of all universities in Lagos State. However\, registration of interest to attend is essential via: https://forms.gle/unRcUN7z7TV5vPJF8
URL:https://unilag.edu.ng/event/event-on-the-future-of-artificial-intelligence-opportunities-and-challenges-holds-feb-24/
CATEGORIES:UNILAG General Events
ATTACH;FMTTYPE=image/png:https://unilag.edu.ng/wp-content/uploads/2026/01/Upcoming-Events-2026-UNILAG-Web-Maroon.png
END:VEVENT
BEGIN:VEVENT
DTSTART;TZID=Africa/Lagos:20260225T100000
DTEND;TZID=Africa/Lagos:20260225T170000
DTSTAMP:20260422T232616
CREATED:20260223T150036Z
LAST-MODIFIED:20260223T171705Z
UID:69835-1772013600-1772038800@unilag.edu.ng
SUMMARY:Students’ Hackathon Competition & Safe-Guarding Training Holds\, February 25
DESCRIPTION:The Safeguarding Center\, University of Lagos (UNILAG) is set to hold a students’ hackathon competition and safe-guarding training programme on Wednesday\, February 25\, 2026 at 10:00a.m. at Hall B\, Academic Publishing Center (APC)\, opposite Faculty of Social Sciences\, UNILAG. \nThe event aims to: \n\n Train and certify students as safeguarding officers for digital security and harm prevention.\nDevelop an app addressing technology-facilitated gender-based violence (TFGBV) and other new/emerging campus violence.\n\nThe app is to provide: \n\nClear information on recognizing and reporting TFGBV;\nImmediate resources and support for survivors; and\nEfficient and discreet response protocols within the university environment.\n\nMembers of the University community are cordially invited.
URL:https://unilag.edu.ng/event/students-hackathon-competition-safe-guarding-training-holds-february-25/
CATEGORIES:UNILAG General Events
ATTACH;FMTTYPE=image/jpeg:https://unilag.edu.ng/wp-content/uploads/2026/02/Safeguarding-centre-hackathon-event.jpeg
END:VEVENT
BEGIN:VEVENT
DTSTART;TZID=Africa/Lagos:20260226T100000
DTEND;TZID=Africa/Lagos:20260226T170000
DTSTAMP:20260422T232616
CREATED:20260220T144533Z
LAST-MODIFIED:20260220T144533Z
UID:69686-1772100000-1772125200@unilag.edu.ng
SUMMARY:Quality Assurance & SERVICOM Holds 1st Quarter Seminar/Workshop\, Feb 26
DESCRIPTION:The Quality Assurance & SERVICOM (QAS) Unit\, University of Lagos (UNILAG) will hold its first (1st) Quarter Seminar/Workshop for the year 2026 as follows:\nDate:    Thursday\, February 26\, 2026\nTime:    10:00a.m.\nVenue:  Tafawa Balewa Lecture Hall\, College of Medicine\, UNILAG\nTopic:    Building a Safe and Inclusive Environment: Addressing Unique Vulnerabilities and Role of Quality Assurance Officers in the University of Lagos\nSpeaker: Dr. Abiola Akiyode-Afolabi (Acting Director\, Safeguarding Centre\, UNILAG) \nThe seminar is aimed at promoting knowledge about creating a safe and conducive environment for all members of the university community and enhancing competence of the QAS members in driving quality assurance processes to support the Future-Ready Agenda of the University. \nAll members of the QAS team are enjoined to be punctual.
URL:https://unilag.edu.ng/event/quality-assurance-servicom-holds-1st-quarter-seminar-workshop-feb-26/
CATEGORIES:UNILAG General Events
ATTACH;FMTTYPE=image/png:https://unilag.edu.ng/wp-content/uploads/2026/01/Upcoming-Events-2026-UNILAG-Web-Gold.png
END:VEVENT
BEGIN:VEVENT
DTSTART;TZID=Africa/Lagos:20260303T100000
DTEND;TZID=Africa/Lagos:20260303T170000
DTSTAMP:20260422T232616
CREATED:20260226T124806Z
LAST-MODIFIED:20260226T130903Z
UID:70060-1772532000-1772557200@unilag.edu.ng
SUMMARY:Consultation Forum on Ajegunle–Ikorodu Action Research Holds\, March 3
DESCRIPTION:A Stakeholders Consultation Forum on the Ajegunle–Ikorodu Action Research on Climate Resilience will hold on Tuesday\, March 3\, 2026 at 10:00 a.m. at the Arthur Mbanefo Digital Research Centre\, University of Lagos (AMDRC\, UNILAG)\, Akoka\, Lagos. \nOrganized by the Centre for Housing and Sustainable Development (CHSD)\, ARUA Centre of Excellence in Urbanization and Habitable Cities\, University of Lagos (UNILAG) in collaboration with the African Cities Research Consortium (ACRC)\, University of Manchester\, United Kingdom (UK)\, the forum aims to: \n\nObtain stakeholders feedback to address knowledge gaps; and\nStrengthen the final Climate Hazard and Vulnerability Assessment Report being developed under the project.
URL:https://unilag.edu.ng/event/consultation-forum-on-ajegunle-ikorodu-action-research-holds-march-3/
CATEGORIES:UNILAG General Events
ATTACH;FMTTYPE=image/jpeg:https://unilag.edu.ng/wp-content/uploads/2026/02/Flyer_Unilag.jpeg
END:VEVENT
BEGIN:VEVENT
DTSTART;TZID=Africa/Lagos:20260304T100000
DTEND;TZID=Africa/Lagos:20260304T110000
DTSTAMP:20260422T232616
CREATED:20260217T154233Z
LAST-MODIFIED:20260217T161144Z
UID:69574-1772618400-1772622000@unilag.edu.ng
SUMMARY:KAAF Specialist Hospital Holds Quarterly Health Information Webinar\, Mar. 4
DESCRIPTION:Kesington Adebukola Adebutu Foundation (KAAF) Specialist Hospital will hold its Quarterly Health Information webinar with the theme: “Screen\, Spot\, Prevent: How Early Testing Saves Lives” as follows: \nDate:                 Wednesday\, March 4\, 2026 \nTime:                10:00a.m. \nZoom URL:       https://tinyurl.com/dfwux673 \nMeeting ID:     813 2818 9189 \nPasscode:         926563 \nThe webinar\, which will be delivered by Dr. Sonia Aroh\, a doctor at KAAF Specialist Hospital\, is aimed at enlightening the university community on the essential screening required at different stages of life\, debunk common myths surrounding diagnostic tests and empower individuals to take proactive control of their long-term health. \nMembers of the university community and public are enjoined to register to attend.
URL:https://unilag.edu.ng/event/kaaf-specialist-hospital-holds-quarterly-health-information-webinar-mar-4/
CATEGORIES:UNILAG General Events
ATTACH;FMTTYPE=image/jpeg:https://unilag.edu.ng/wp-content/uploads/2026/02/SCREENING-TESTS-FOR-THE-EARLY-DETECTION-AND-PREVENTION-OF-DISEASES-1.jpeg
END:VEVENT
BEGIN:VEVENT
DTSTART;TZID=Africa/Lagos:20260311T080000
DTEND;TZID=Africa/Lagos:20260311T170000
DTSTAMP:20260422T232616
CREATED:20260311T172024Z
LAST-MODIFIED:20260311T172024Z
UID:71040-1773216000-1773248400@unilag.edu.ng
SUMMARY:UNILAG AI UniPod Open Day for Students & Staff Holds\, March 12
DESCRIPTION:  \nWant to get a chance to tour the UNILAG AI UniPod\, the recently completed innovation hub located in the Akoka campus of the University? \nRegister now via https://forms.gle/KdXBjLBUdJ2GD7MD7 for the AI Unipod Open Day for Students and Staff scheduled for TOMORROW\, Thursday\, March 12\, 2026! \nThe open day will hold from 10:00a.m  to 4:00p.m.\, and only registered students and staff will be granted access to view the masterpiece.
URL:https://unilag.edu.ng/event/unilag-ai-unipod-open-day-for-students-staff-holds-march-12/
CATEGORIES:UNILAG General Events
ATTACH;FMTTYPE=image/jpeg:https://unilag.edu.ng/wp-content/uploads/2026/03/IMG-20260311-WA0016.jpg
END:VEVENT
BEGIN:VEVENT
DTSTART;TZID=Africa/Lagos:20260312T083000
DTEND;TZID=Africa/Lagos:20260331T170000
DTSTAMP:20260422T232616
CREATED:20260227T122423Z
LAST-MODIFIED:20260227T131706Z
UID:70063-1773304200-1774976400@unilag.edu.ng
SUMMARY:Registry Table Talks Holds\, March 12 & 31
DESCRIPTION:Are you ready for Registry Table Talks\, an initiative of the Registrar and Secretary to Council of the University of Lagos (UNILAG) for sustained professional dialogue within the Registry? \nThe maiden edition of the forum\, which aims to promote administrative excellence\, professionalism and institutional excellence\, will hold as indicated below: \n\nDay 1: Thursday\, March 12\, 2026: Registry staff on CONTISS 6 – 11\nDay 2: Tuesday\, March 31\, 2026: Registry staff on CONTISS 12 – 15\nTime: 9:00 a.m. – 10:00 a.m.\nVenue: Senate Chamber\, 2nd Floor\, Senate House\, UNILAG\, Akoka\, Lagos\n\nRegistry staff are to attend punctually in line with the above schedule.
URL:https://unilag.edu.ng/event/registry-table-talks-holds-march-12-31/
CATEGORIES:UNILAG General Events
ATTACH;FMTTYPE=image/png:https://unilag.edu.ng/wp-content/uploads/2026/02/UNILAG-TABLE-TALKS-3.png
END:VEVENT
BEGIN:VEVENT
DTSTART;TZID=Africa/Lagos:20260422T100000
DTEND;TZID=Africa/Lagos:20260422T170000
DTSTAMP:20260422T232616
CREATED:20260420T173357Z
LAST-MODIFIED:20260420T173357Z
UID:72548-1776852000-1776877200@unilag.edu.ng
SUMMARY:UNILAG IADS Hosts 2026 Malaria Day Seminar\, April 22
DESCRIPTION:The Gender\, Culture and Identity Research Cluster of the Institute of African and Diaspora Studies\, University of Lagos (IADS\, UNILAG) will host a one-day seminar in commemoration of the 2026 Malaria Day as follows: \nDate: Wednesday\, April 22\, 2026\nTime: 10 a.m\nVenue: IADS Gallery\, J.P. Clark Building\, University of Lagos\nTheme: The Place of Traditional Medicine in the Fight Against Malaria \nThe seminar will focus on the current state of malaria prevention in Nigeria\, with particular emphasis on the role of indigenous knowledge systems in combating the disease. \nMembers of the University Community and general public are cordially invited.
URL:https://unilag.edu.ng/event/unilag-iads-hosts-2026-malaria-day-seminar-april-22/
LOCATION:Institute of African and Diaspora Studies (IADS) Gallery\, J.P. Clark Building\, UNILAG\, Nigeria
CATEGORIES:UNILAG General Events
ATTACH;FMTTYPE=image/jpeg:https://unilag.edu.ng/wp-content/uploads/2026/04/Important-Notice-Maroon.jpg
END:VEVENT
BEGIN:VEVENT
DTSTART;TZID=Africa/Lagos:20260514T100000
DTEND;TZID=Africa/Lagos:20260514T170000
DTSTAMP:20260422T232616
CREATED:20260421T143712Z
LAST-MODIFIED:20260421T143712Z
UID:72563-1778752800-1778778000@unilag.edu.ng
SUMMARY:UNILAG Hosts Workshop on Mental Health and Stress Management for Men\, May 14
DESCRIPTION:A workshop on Mental Health and Stress Management for Men will hold on Thursday\, May 14\, 2026 at 10:00 am at the J.F. Ade Ajayi (Main) Auditorium Foyer\, University of Lagos (UNILAG). \nWith the theme: Mental Health and Stress Management for Men in Academic Environment\, the Workshop is an initiative of HearMan Initiative founded by Elder Oluropo Adedini of the University’s Bursary Department. It will feature Dr. Olugbenga Owoeye (Medical Director\, Federal Neuro-Psychiatric Hospital\, Yaba) as Guest Speaker. \nMembers of the University Community and general public are cordially invited.
URL:https://unilag.edu.ng/event/unilag-hosts-workshop-on-mental-health-and-stress-management-for-men-may-14/
CATEGORIES:UNILAG General Events,Workshop
ATTACH;FMTTYPE=image/jpeg:https://unilag.edu.ng/wp-content/uploads/2026/04/WhatsApp-Image-2026-04-21-at-1.04.51-PM1.jpeg
END:VEVENT
END:VCALENDAR