BEGIN:VCALENDAR
VERSION:2.0
PRODID:-//University Of Lagos - ECPv6.15.20//NONSGML v1.0//EN
CALSCALE:GREGORIAN
METHOD:PUBLISH
X-ORIGINAL-URL:https://unilag.edu.ng
X-WR-CALDESC:Events for University Of Lagos
REFRESH-INTERVAL;VALUE=DURATION:PT1H
X-Robots-Tag:noindex
X-PUBLISHED-TTL:PT1H
BEGIN:VTIMEZONE
TZID:Africa/Lagos
BEGIN:STANDARD
TZOFFSETFROM:+0100
TZOFFSETTO:+0100
TZNAME:WAT
DTSTART:20240101T000000
END:STANDARD
END:VTIMEZONE
BEGIN:VEVENT
DTSTART;TZID=Africa/Lagos:20250731T110000
DTEND;TZID=Africa/Lagos:20250731T120000
DTSTAMP:20260422T114130
CREATED:20250724T132727Z
LAST-MODIFIED:20250724T132740Z
UID:58907-1753959600-1753963200@unilag.edu.ng
SUMMARY:DLI Holds Monthly Seminar Series\, July 31
DESCRIPTION:The July edition of the monthly seminar series of the Distance Learning Institute (DLI)\, University of\nLagos (UNILAG) will hold on Thursday\, July 31\, 2025\, at 11:00 a.m. at DLI Boardroom\, Red Bricks\, UNILAG. \nThe Seminar\, titled “Victimization of Children with Special Needs\, Parental Knowledge\, and Responses in Southwest Nigeria: Counselling Implications\,” will be delivered by Dr. Adeduni O. Adegun. \nMembers of the University Community are cordially invited to participate physically or virtually via Zoom Meeting ID: 86758194994 and Passcode: 249587 
URL:https://unilag.edu.ng/event/dli-holds-monthly-seminar-series-july-31/
CATEGORIES:Distance Learning Institute Seminar Series,Lectures,UNILAG General Events
ATTACH;FMTTYPE=image/png:https://unilag.edu.ng/wp-content/uploads/2025/02/Upcoming-Events-UNILAG-Nigeria-2025-maroon-1.png
END:VEVENT
BEGIN:VEVENT
DTSTART;TZID=Africa/Lagos:20250724T130000
DTEND;TZID=Africa/Lagos:20250724T140000
DTSTAMP:20260422T114130
CREATED:20250723T171021Z
LAST-MODIFIED:20250724T113358Z
UID:58889-1753362000-1753365600@unilag.edu.ng
SUMMARY:UNESCO Hosts Webinar Series on Global Convention on Higher Education\, July 24 & Sept. 18
DESCRIPTION:The United Nations Educational\, Scientific and Cultural Organization (UNESCO) is set to host a new series of webinars to deepen understanding of the Global Convention on Higher Education. The series is also aimed at: \n\nExploring emerging trends in higher education\, skills development\, and mobility to identify how recognition practices can better support national development priorities.\nInitiating action planning among policymakers and stakeholders to prepare for ratification and implementation.\n\nThe first edition of the webinar titled Unpacking National Benefits of the Global Convention on Higher Education is scheduled for Thursday\, 24 July\, 2025 from 14:00 to 15:00 CET. Members of the University community are encouraged to register for the webinar via: https://unesco-org.zoom.us/webinar/register/WN_V-vpCQ1MTs-NIHEVAC1ovQ \nThe second edition of the webinar which will focus more on concrete implementation of the recognition conventions is scheduled for Thursday\, September 18\, 2025 from 14:00 to 15:00 CET. Prior registration is required via: https://unesco-org.zoom.us/webinar/register/WN_O-lv-NsORXizQ3v1elzhOw \nSince coming into force in 2023\, the Global Convention on Higher Education now has 38 States Parties in each world region\, and this number continues to grow rapidly. It complements UNESCO’s five regional conventions\, creating a cohesive international system for higher education recognition. \nKey features and general benefits of the Global Convention on Higher Education include:\n➢ Promoting and strengthening international cooperation in higher education;\n➢ Supporting academic exchange that strengthens research\, innovation and student learning;\n➢ Fostering trust and confidence in the quality and reliability of qualifications;\n➢ Promoting inclusion and lifelong learning by recognizing diverse learning pathways\, skills\, and non-traditional learning modes;\n➢ Providing guidance on recognizing refugees’ and displaced persons’ qualifications\, even when official documents are missing;\n➢ Promoting the sharing of accessible\, up-to-date\, reliable\, transparent\, and relevant information on higher education qualifications and systems;\n➢ Networking with others and joining leading conversations on higher education developments at global and regional levels.
URL:https://unilag.edu.ng/event/unesco-hosts-webinar-on-global-convention-on-higher-education-july-24/
CATEGORIES:UNILAG General Events
ATTACH;FMTTYPE=image/png:https://unilag.edu.ng/wp-content/uploads/2025/07/Screenshot-2025-07-23-174721.png
END:VEVENT
BEGIN:VEVENT
DTSTART;TZID=Africa/Lagos:20250526T080000
DTEND;TZID=Africa/Lagos:20250526T170000
DTSTAMP:20260422T114130
CREATED:20250526T181132Z
LAST-MODIFIED:20250604T090750Z
UID:55669-1748246400-1748278800@unilag.edu.ng
SUMMARY:Prof. Oyewunmi Delivers Inaugural Lecture\, June 4
DESCRIPTION:Professor Adejoke Oyewunmi of the Department of Commercial and Industrial Law\, Faculty of Law\, University of Lagos (UNILAG) will deliver the (14th) Inaugural Lecture of the 2024/2025 Academic Session on Wednesday\, June 4 2025 at 4:00 p.m. (guests are to be seated by 3:45 p.m.) at the Tayo Aderinokun Lecture Theatre (near the UNILAG Guest Houses)\, UNILAG\, Akoka . \nThe Vice-Chancellor\, Professor Folasade T. Ogunsola\, OON\, FAS\, will preside over the Lecture titled: Intellectual Property and Digital Technology: Navigating a Pathway to Fit for Purpose Legal Regime in Nigeria. \nMembers of the University Community and general public are cordially invited.
URL:https://unilag.edu.ng/event/prof-oyewunmi-delivers-inaugural-lecture-june-4/
CATEGORIES:Inaugural Lecture,UNILAG General Events
END:VEVENT
BEGIN:VEVENT
DTSTART;TZID=Africa/Lagos:20250508T110000
DTEND;TZID=Africa/Lagos:20250508T140000
DTSTAMP:20260422T114130
CREATED:20250425T142553Z
LAST-MODIFIED:20250501T115216Z
UID:52091-1746702000-1746712800@unilag.edu.ng
SUMMARY:Webinar on Practical Steps to Escaping the Cycle of Unemployment Holds\, May 8
DESCRIPTION:The Centre for General Studies\, University of Lagos (UNILAG) in collaboration with Academic and Post Tertiary Excellence (ACAPOSTE) will hold a webinar on Practical Steps to Escaping the Cycle of Unemployment as scheduled below:\nDate: Thursday\, May 8\, 2025\nTime: 11:00a.m.\nVenue:\nZoom Meeting ID: 83616866793\nPassword: ACAPOSTE \nInterested participants are required to register for the webinar which will feature a presentation by the Founder and Chief Coach\, ACAPOSTE\, Ms. Mosimiloluwa Koye-Ladele via bit.ly/unilagemployablegraduate \nPlease note that only registered participants will receive certificates at the end of the programme. \n 
URL:https://unilag.edu.ng/event/webinar-on-practical-steps-to-escaping-the-cycle-of-unemployment-holds-may-8/
CATEGORIES:UNILAG General Events
ATTACH;FMTTYPE=image/png:https://unilag.edu.ng/wp-content/uploads/2025/04/GST-ACAPOSTE.png
END:VEVENT
BEGIN:VEVENT
DTSTART;TZID=Africa/Lagos:20250502T080000
DTEND;TZID=Africa/Lagos:20250502T170000
DTSTAMP:20260422T114130
CREATED:20250502T185608Z
LAST-MODIFIED:20250502T185608Z
UID:52399-1746172800-1746205200@unilag.edu.ng
SUMMARY:Unveiling Ceremony of Festschrift in Honour of Prof. Francis Anyim Holds\, May 30
DESCRIPTION:A Festschrift in honour of Professor Francis Chukwudike Anyim of the Department of Employment Relations and Human Resource Management\, Faculty of Management Sciences\, University of Lagos (UNILAG) will be publicly unveiled on Friday\, May 30\, 2025\, at 10:00 am at the Tayo Aderinokun Hall\, UNILAG\, Akoka. \nThe event will attract industry bigwigs\, alumni\, as well as professional colleagues\, friends\, and well-wishers of Professor Francis Chukwudike Anyim. \nMembers of the University community are cordially invited.
URL:https://unilag.edu.ng/event/unveiling-ceremony-of-festschrift-in-honour-of-prof-francis-anyim-holds-may-30/
CATEGORIES:Faculty of Management Sciences,UNILAG General Events
END:VEVENT
BEGIN:VEVENT
DTSTART;TZID=Africa/Lagos:20250425T080000
DTEND;TZID=Africa/Lagos:20250425T170000
DTSTAMP:20260422T114130
CREATED:20250425T151308Z
LAST-MODIFIED:20250425T151308Z
UID:52102-1745568000-1745600400@unilag.edu.ng
SUMMARY:Faculty of Engineering Commissions APWENLAGOS Innovation Hub\, April 30
DESCRIPTION:The Faculty of Engineering\, University of Lagos will officially commission the APWENLAGOS Innovation & Resource Hub within the Faculty on Wednesday\, April 30\, 2025 at 12:00 noon. \nThe commissioning will be followed by a Public Lecture and Awards Ceremony with the theme: From Circuit Boards to SHEnovation. \nMembers of the University Community and general public are cordially invited. \nJoin us as we celebrate the creativity and innovation of young women engineers – our SHEnovators!
URL:https://unilag.edu.ng/event/faculty-of-engineering-commissions-apwenlagos-innovation-hub-april-30/
CATEGORIES:UNILAG General Events
END:VEVENT
BEGIN:VEVENT
DTSTART;TZID=Africa/Lagos:20250211T100000
DTEND;TZID=Africa/Lagos:20250211T170000
DTSTAMP:20260422T114130
CREATED:20250203T122048Z
LAST-MODIFIED:20250203T122048Z
UID:39252-1739268000-1739293200@unilag.edu.ng
SUMMARY:OWSD\, UNILAG Celebrates International Day for Women and Girls In Science\, Feb. 11
DESCRIPTION:The Organisation for Women in Science for the Developing World (OWSD)\, University of Lagos (UNILAG) Branch will commemorate the International Day for Women and Girls in Science as follows: \nDate:   Tuesday\, February 11\, 2025\nTime:  10:00 a.m.\nVenue: NitHub\, No. 6\, Commercial Road\, UNILAG\, Akoka. \nVirtual: https://us02web.zoom.us/j/87576951004?pwd=faZlLb1HXVLda9tr6Oa4G328gTHom6.1\nMeeting ID: 875 7695 1004 and\nPasscode: OWSD25 \nThe theme of the event is Women in Science Leadership: A New Era for Sustainability and it will feature a line-up of activities including Guest Lectures\, Panel discussion (by students)\, Life Membership and Friends of OWSD Awards\, and Recognition of newly promoted Women-Professors. \nYou are invited to join OSWD\, UNILAG for this inspiring and educational event.
URL:https://unilag.edu.ng/event/owsd-unilag-celebrates-international-day-for-women-and-girls-in-science-feb-11/
CATEGORIES:Faculty of Science,UNILAG General Events
ATTACH;FMTTYPE=image/png:https://unilag.edu.ng/wp-content/uploads/2025/02/Upcoming-Events-UNILAG-Nigeria-2025-light.png
END:VEVENT
BEGIN:VEVENT
DTSTART;TZID=Africa/Lagos:20250203T080000
DTEND;TZID=Africa/Lagos:20250203T170000
DTSTAMP:20260422T114130
CREATED:20250203T124847Z
LAST-MODIFIED:20250203T124917Z
UID:39255-1738569600-1738602000@unilag.edu.ng
SUMMARY:CEDHUL\, UNILAG Holds 2025 Digital Humanities Webinar\, Feb. 6
DESCRIPTION:The Digital Humanities Webinar Series 2025 of the Centre for Digital Humanities\, University of Lagos (CEDHUL\, UNILAG) will hold on Thursday\, February 6\, 2025. \nThe webinar’s theme is: Unpacking Digital Humanities for Trainers: Exploring the Principles\, Practice and Pedagogy of DH\, and the Facilitator is Frank Onuh of the University of Lethbridge\, Canada. \nYou are invited to register for the webinar via: https://forms.gle/vHGCyrqXKmnDAyUs5; and join via Zoom Link: https://bit.ly/cedhul2022; Meeting ID: 875 3135 8855 and Password: cedhul. \n 
URL:https://unilag.edu.ng/event/cedhul-unilag-holds-2025-digital-humanities-webinar-feb-6/
CATEGORIES:Faculty of Arts,UNILAG General Events
ATTACH;FMTTYPE=image/png:https://unilag.edu.ng/wp-content/uploads/2025/02/Upcoming-Events-UNILAG-Nigeria-2025-maroon.png
END:VEVENT
END:VCALENDAR